BEGIN:VCALENDAR
VERSION:2.0
PRODID:-//Trawler-Calendar-Tool 0.2
METHOD:PUBLISH
BEGIN:VTIMEZONE
TZID:Europe/Berlin
BEGIN:STANDARD
TZNAME:CET
DTSTART:20100101T010000
RRULE:FREQ=YEARLY;BYDAY=-1SU;BYMONTH=10
TZOFFSETFROM:+0200
TZOFFSETTO:+0100
END:STANDARD
BEGIN:DAYLIGHT
TZNAME:CEST
DTSTART:20100101T010000
RRULE:FREQ=YEARLY;BYDAY=-1SU;BYMONTH=3
TZOFFSETFROM:+0100
TZOFFSETTO:+0200
END:DAYLIGHT
END:VTIMEZONE
X-WR-TIMEZONE:Europe/Berlin
X-ORIGINAL-URL:https://www.spd-bischberg.de/termine/
BEGIN:VEVENT
DTSTART;TZID=Europe/Berlin:20260424T180000
DTEND;TZID=Europe/Berlin:20260424T210000
LOCATION:Spezialkeller Bamberg\, Sternwartstr. 8\, 96049 Bamberg
SUMMARY:SPD Bamberg-Berg: Mitgliedertreffen
DESCRIPTION:Liebe
   Genossinnen und Genossen\,
 
 mit
   Stolz können wir sagen\, dass die SPD in Bamberg bei den
   Kommunalwahlen 2026 unglaublich viel erreicht hat und mit OB Niedermaier
   und der neuen SPD Fraktion weiterhin eine wichtige Rolle für die
   soziale\, gerechte und zukunftsorientierte Entwicklung unserer Stadt
   spielen wird.
 
 Nach
   dem intensiven Kommunalwahlkampf ist es umso schöner\, dass unser
   Ortsverein Berg wieder gemeinsam in die regelmäßige Arbeit und
   den Austausch startet. Wir als Vorstand freuen uns sehr darauf\, uns
   wieder regelmäßig zu treffen und gemeinsam an unseren Themen
   weiterzuarbeiten.
 
 Hiermit
   laden wir Euch herzlich zu unserem nächsten Treffen
   ein:
 
 Freitag\, 24. April\, um 18:00
   Uhr
 Ort: Spezialkeller Bamberg\, Sternwartstraße 8\, 96049
   Bamberg
 
 Wir
   bitten Euch um eine kurze Anmeldung\, entweder per E-Mail an m.depietri@spd-bamberg.de oder
   telefonisch bzw. per Nachricht unter der Handynummer 0160
   8469348.
 
 Wir
   freuen uns auf den gemeinsamen Abend!
 
 Mit
   solidarischen Grüßen
 
 Marco -
   Gesa - Patrick - Kerstin - Henry
X-ALT-DESC;FMTTYPE=text/plain:Liebe
   Genossinnen und Genossen\,
 
 mit
   Stolz k&ouml\;nnen wir sagen\, dass die SPD in Bamberg bei den
   Kommunalwahlen 2026 unglaublich viel erreicht hat und mit OB Niedermaier
   und der neuen SPD Fraktion weiterhin eine wichtige Rolle f&uuml\;r die
   soziale\, gerechte und zukunftsorientierte Entwicklung unserer Stadt
   spielen wird.
 
 Nach
   dem intensiven Kommunalwahlkampf ist es umso sch&ouml\;ner\, dass unser
   Ortsverein Berg wieder gemeinsam in die regelm&auml\;&szlig\;ige Arbeit und
   den Austausch startet. Wir als Vorstand freuen uns sehr darauf\, uns
   wieder regelm&auml\;&szlig\;ig zu treffen und gemeinsam an unseren Themen
   weiterzuarbeiten.
 
 Hiermit
   laden wir Euch herzlich zu unserem n&auml\;chsten Treffen
   ein:
 
 Freitag\, 24. April\, um 18:00
   Uhr
 Ort: Spezialkeller Bamberg\, Sternwartstra&szlig\;e 8\, 96049
   Bamberg
 
 Wir
   bitten Euch um eine kurze Anmeldung\, entweder per E-Mail an&nbsp\;m.depietri@spd-bamberg.de&nbsp\;oder
   telefonisch bzw. per Nachricht unter der Handynummer 0160
   8469348.
 
 Wir
   freuen uns auf den gemeinsamen Abend!
 
 Mit
   solidarischen Gr&uuml\;&szlig\;en
 
 Marco -
   Gesa - Patrick - Kerstin - Henry
PRIORITY:5
UID:wscms104210-bamberg-eda191cab0015d1feab230a9ac563d36
URL:https://www.spd-bischberg.de/calendar104210.ics
END:VEVENT
END:VCALENDAR